BEGIN:VCALENDAR
VERSION:2.0
PRODID:-//Inside Craft - ECPv4.6.1//NONSGML v1.0//EN
CALSCALE:GREGORIAN
METHOD:PUBLISH
X-WR-CALNAME:Inside Craft
X-ORIGINAL-URL:http://insidecraft.ie
X-WR-CALDESC:Events for Inside Craft
BEGIN:VEVENT
DTSTART;TZID=UTC+0:20171024T100000
DTEND;TZID=UTC+0:20171104T170000
DTSTAMP:20171106T155538
CREATED:20171017T212959Z
LAST-MODIFIED:20171106T082639Z
UID:12445-1508839200-1509814800@insidecraft.ie
SUMMARY:PopUp Shop at Backstage Theatre\, Longford\, from October 
DESCRIPTION:Why not invite friends and family along to our next PopUp Shop at Backstage Theatre\, Longford\, from October 24th – 4th November. \nCoinciding with the Aisling Children’s Arts Festival\, the craft network’s latest pop-up shop will open this Tuesday 24th October\, and continue through mid-term holidays during the Evolution Stage School. Makers will be on site during the pop-up event to discuss their work with visitors to the centre. \nThe pop-up event in Longford is set to introduce the new Inside [CRAFT] network members and will be an excellent opportunity to meet the craftspeople\, discover what inspires their work\, and browse some of the unique items for sale. Demonstrations and children’s workshops will also take place during this pop-up featuring milliner Wendy Knight – Wendy Louise Designs\, artist Gene Rhatigan and Franziska Lienberger of the Irish Felt Fairy. \nInside [CRAFT] will host a further two pop-up events at the Cavan Christmas Craft and Food Fair on November 12th in Hotel Kilmore\, Co. Cavan\, and a return to Longford on November 24th– 25th. \nFind out more and stay up to date on our news by following us on our Facebook page – www.facebook.com/InsideCraft/ \n#InsideCraft #Art #Craft#Design \n
URL:http://insidecraft.ie/event/popup-shop-at-backstage-theatre-longford-from-october/
LOCATION:Backstage Theatre\, Farneyhoogan\, Longford Ireland\, Farneyhoogan\, Ireland
ATTACH;FMTTYPE=image/jpeg:http://insidecraft.ie/wp-content/uploads/2017/10/Inside-craft-event-cover-for-pop-up.jpg
ORGANIZER;CN="Inside%20%5BCRAFT%5D":MAILTO:info@insidecraft.ie
END:VEVENT
END:VCALENDAR